BEGIN:VCALENDAR
VERSION:2.0
PRODID:-//Pondok Pesantren Al-Awwabin - ECPv6.15.20//NONSGML v1.0//EN
CALSCALE:GREGORIAN
METHOD:PUBLISH
X-ORIGINAL-URL:https://alawwabin.sch.id
X-WR-CALDESC:Events for Pondok Pesantren Al-Awwabin
REFRESH-INTERVAL;VALUE=DURATION:PT1H
X-Robots-Tag:noindex
X-PUBLISHED-TTL:PT1H
BEGIN:VTIMEZONE
TZID:Asia/Jakarta
BEGIN:STANDARD
TZOFFSETFROM:+0700
TZOFFSETTO:+0700
TZNAME:WIB
DTSTART:20230101T000000
END:STANDARD
END:VTIMEZONE
BEGIN:VEVENT
DTSTART;VALUE=DATE:20240610
DTEND;VALUE=DATE:20240614
DTSTAMP:20260422T194634
CREATED:20240217T060443Z
LAST-MODIFIED:20240217T060443Z
UID:1573-1717977600-1718323199@alawwabin.sch.id
SUMMARY:Tour dan Perpisahan XII MA dan IX MTs TP. 2023/2024
DESCRIPTION:
URL:https://alawwabin.sch.id/kalender-pendidikan/tour-dan-perpisahan-xii-ma-dan-ix-mts-tp-2023-2024/
CATEGORIES:Rihlah
END:VEVENT
END:VCALENDAR