BEGIN:VCALENDAR
VERSION:2.0
PRODID:-//Pondok Pesantren Al-Awwabin - ECPv6.15.20//NONSGML v1.0//EN
CALSCALE:GREGORIAN
METHOD:PUBLISH
X-ORIGINAL-URL:https://alawwabin.sch.id
X-WR-CALDESC:Events for Pondok Pesantren Al-Awwabin
REFRESH-INTERVAL;VALUE=DURATION:PT1H
X-Robots-Tag:noindex
X-PUBLISHED-TTL:PT1H
BEGIN:VTIMEZONE
TZID:Asia/Jakarta
BEGIN:STANDARD
TZOFFSETFROM:+0700
TZOFFSETTO:+0700
TZNAME:WIB
DTSTART:20230101T000000
END:STANDARD
END:VTIMEZONE
BEGIN:VEVENT
DTSTART;VALUE=DATE:20240222
DTEND;VALUE=DATE:20240301
DTSTAMP:20260422T224852
CREATED:20240218T123046Z
LAST-MODIFIED:20240218T123046Z
UID:1579-1708560000-1709251199@alawwabin.sch.id
SUMMARY:Ujian Akhir Pesantren Kelas  III MTs dan III MA
DESCRIPTION:
URL:https://alawwabin.sch.id/kalender-pendidikan/ujian-akhir-pesantren-kelas-iii-mts-dan-iii-ma/
LOCATION:Masjid Pondok Pesantren Al-Awwabin Depok\, Jl. Raya Sawangan No. 21\, Pancoran Mas.\, Depok
CATEGORIES:Imtihan
END:VEVENT
END:VCALENDAR